BEGIN:VCALENDAR
PRODID:-//Cornell Cooperative Extension of Nassau County//NONSGML Cornell Cooperative Extension of Nassau County Events//EN
X-ORIGINAL-URL:
VERSION:2.0
CALSCALE:GREGORIAN
METHOD:PUBLISH
BEGIN:VEVENT
METHOD: PUBLISH
X-MS-OLK-FORCEINSPECTOROPEN:TRUE
DTSTART:20260427T180600
DTEND:20260427T180600
SUMMARY:Special Board Meeting
DTSTAMP:20110121T170000
LAST-MODIFIED:20260425T080829
CREATED:20251110T140220
SEQUENCE:0
TRANSP:TRANSPARENT
UID:31599
LOCATION:
URL:http://ccenassau.org/events/2026/04/27/special-board-meeting
DESCRIPTION:6:30 p.m. at CCE Nassau Main Office, SAC Building, Eisenhower Park, East MeadowAgenda coming soon.Members of the public are welcome to attend.&amp;nbsp;If you are interested in joining, please email nassau@cornell.eduNote: Accommodations for persons with disabilities may be requested by emailing nassau@cornell.edu two days prior to the meeting.
CLASS:PUBLIC
CATEGORIES:
STATUS:CONFIRMED
END:VEVENT
END:VCALENDAR
n/a